BEGIN:VCALENDAR
VERSION:2.0
X-WR-CALNAME: Brass Band Hessen
PRODID:GIGPRESS 2.0 WORDPRESS PLUGIN
CALSCALE:GREGORIAN
X-WR-TIMEZONE:Etc/GMT
METHOD:PUBLISH
BEGIN:VTIMEZONE
TZID:GMT
BEGIN:STANDARD
DTSTART:20071028T010000
TZOFFSETTO:+0000
TZOFFSETFROM:+0000
END:STANDARD
END:VTIMEZONE
BEGIN:VEVENT
SUMMARY:Brass Band Hessen \, Wasserburg Bad Vilbel
DESCRIPTION:Tour: Tour26. 
LOCATION:Wasserburg Bad Vilbel\, Klaus-Havenstein-Weg 1\, 61118 Bad Vilbel\, Bad Vilbel\, DE
UID:20260802T120000Z-109-sdillmann@brassbandhessen.de
URL:https://brassbandhessen.de
DTSTART;VALUE=DATE-TIME;TZID=GMT:20260802T120000Z
DTEND;VALUE=DATE-TIME;TZID=GMT:20260802T120000Z
DTSTAMP:20260423T025727Z
END:VEVENT
BEGIN:VEVENT
SUMMARY:Brass Band Hessen \, Schloß Vianden (Luxemburg)
DESCRIPTION:
LOCATION:Schloß Vianden (Luxemburg)\, Chateau de Vianden\, Montee du Chateau\, Vianden (Luxemburg)\, LU
UID:20260927T170000Z-110-sdillmann@brassbandhessen.de
URL:https://brassbandhessen.de
DTSTART;VALUE=DATE-TIME;TZID=GMT:20260927T170000Z
DTEND;VALUE=DATE-TIME;TZID=GMT:20260927T170000Z
DTSTAMP:20260423T025727Z
END:VEVENT
BEGIN:VEVENT
SUMMARY:Brass Band Hessen \, Schloß Vianden (Luxemburg)
DESCRIPTION:
LOCATION:Schloß Vianden (Luxemburg)\, Chateau de Vianden\, Montee du Chateau\, Vianden (Luxemburg)\, LU
UID:20260927T170000Z-111-sdillmann@brassbandhessen.de
URL:https://brassbandhessen.de
DTSTART;VALUE=DATE-TIME;TZID=GMT:20260927T170000Z
DTEND;VALUE=DATE-TIME;TZID=GMT:20260927T170000Z
DTSTAMP:20260423T025727Z
END:VEVENT
BEGIN:VEVENT
SUMMARY:Brass Band Hessen \, Antreffhalle Willingshausen
DESCRIPTION:
LOCATION:Antreffhalle Willingshausen\, Brüder-Grimm-Straße 13\, Willingshausen\, DE
UID:20261115T170000Z-112-sdillmann@brassbandhessen.de
URL:https://brassbandhessen.de
DTSTART;VALUE=DATE-TIME;TZID=GMT:20261115T170000Z
DTEND;VALUE=DATE-TIME;TZID=GMT:20261115T170000Z
DTSTAMP:20260423T025727Z
END:VEVENT
END:VCALENDAR